BEGIN:VCALENDAR
PRODID:NingEventWidget-v1
VERSION:2.0
METHOD:PUBLISH
BEGIN:VTIMEZONE
TZID:Africa/Blantyre
X-LIC-LOCATION:Africa/Blantyre
BEGIN:STANDARD
TZOFFSETFROM:+0200
TZOFFSETTO:+0200
TZNAME:CAT
DTSTART:19700101T000000
END:STANDARD
END:VTIMEZONE
BEGIN:VEVENT
UID:2015296:Event:51664
DTSTAMP:20260420T223746Z
SUMMARY:VII SIRGEALC Chile 2009 - Simposio de Recursos Genéticos para
  América Latina y el Caribe.
DESCRIPTION:Este Simposio, por primera vez reunirá los mejores expone
 ntes a nivel mundial de las tres áreas de los recursos biológicos, e
 s decir, Recursos Fitogenéticos, Zoogenéticos y Microorganismos, en 
 un sólo evento, constituyéndose en uno de los más importantes en su
  materia, sino el más importante, a nivel mundial.\n\nPara más infor
 mación visita http://www.agro20.com/events/vii-sirgealc-chile-2009
DTSTART;TZID=Africa/Blantyre:20091028T000000
DTEND;TZID=Africa/Blantyre:20091030T235900
CATEGORIES:simposio
LOCATION:Pucón, Chile
WEBSITE:http://sirgealc2009.cl/
URL:http://sirgealc2009.cl/
CONTACT:(56 45) 215 706
ORGANIZER:INIA Carillanca, Ministerio de Agricultura, Gobierno de Chil
 e
ATTACH;FMTTYPE="image/jpeg":http://storage.ning.com/topology/rest/1.0/
 file/get/2256837395?profile=original
ATTENDEE;ROLE=REQ-PARTICIPANT;PARTSTAT=ACCEPTED;RSVP=TRUE;CN="Gustavo 
 A. Chacón Cruz":http://www.agro20.com/profile/GustavoAChaconCruz
END:VEVENT
END:VCALENDAR
