BEGIN:VCALENDAR
PRODID:NingEventWidget-v1
VERSION:2.0
METHOD:PUBLISH
BEGIN:VTIMEZONE
TZID:Africa/Blantyre
X-LIC-LOCATION:Africa/Blantyre
BEGIN:STANDARD
TZOFFSETFROM:+0200
TZOFFSETTO:+0200
TZNAME:CAT
DTSTART:19700101T000000
END:STANDARD
END:VTIMEZONE
BEGIN:VEVENT
UID:2015296:Event:51660
DTSTAMP:20260420T235247Z
SUMMARY:VI Simposio Internacional en Riego de Frutales y Hortalizas
DESCRIPTION:En nombre de la Sección Hortalizas de la Sociedad Interna
 cional de Ciencias Hortícolas (ISHS), los Coordinadores y el Comité 
 Organizador tienen el placer de invitarlo a participar en el Sexto Sim
 posio Internacional en Riego de Frutales y Hortalizas. El simposio se 
 llevará a cabo en Noviembre 2-6, 2009 en Viña del Mar, Chile.\n\nEl 
 programa del simposio contempla la presentación de ponencias de inves
 tigadores invitados, y la presentación de artículos de investigacion
 es recientes, en forma oral y en forma de poster.\n\nPara más informa
 ción visita http://www.agro20.com/events/vi-simposio-internacional-en
DTSTART;TZID=Africa/Blantyre:20091102T000000
DTEND;TZID=Africa/Blantyre:20091106T235900
CATEGORIES:simposio
LOCATION:Hotel Sheraton Miramar
WEBSITE:http://www.irrigation2009.cl/
URL:http://www.irrigation2009.cl/
CONTACT:(562) 757 5105,  (56) 71-200214
ORGANIZER:INIA - Universidad de Talca
ATTACH;FMTTYPE="image/jpeg":http://storage.ning.com/topology/rest/1.0/
 file/get/2256837526?profile=original
ATTENDEE;ROLE=REQ-PARTICIPANT;PARTSTAT=ACCEPTED;RSVP=TRUE;CN="Gustavo 
 A. Chacón Cruz":http://www.agro20.com/profile/GustavoAChaconCruz
ATTENDEE;ROLE=REQ-PARTICIPANT;PARTSTAT=TENTATIVE;RSVP=TRUE;CN="José A
 ntonio":http://www.agro20.com/profile/JoseAntonio911
END:VEVENT
END:VCALENDAR
