BEGIN:VCALENDAR
PRODID:NingEventWidget-v1
VERSION:2.0
METHOD:PUBLISH
BEGIN:VTIMEZONE
TZID:Africa/Blantyre
X-LIC-LOCATION:Africa/Blantyre
BEGIN:STANDARD
TZOFFSETFROM:+0200
TZOFFSETTO:+0200
TZNAME:CAT
DTSTART:19700101T000000
END:STANDARD
END:VTIMEZONE
BEGIN:VEVENT
UID:2015296:Event:67622
DTSTAMP:20260421T010048Z
SUMMARY:SEMINARIO SOBRE GANADERIA ESTABULADA EN CUCUTA
DESCRIPTION:EN ESTE SEMINARIO SE DARAN LAS BASES FUNDAMENTALES PARA EL
  MONTAJE UN PROYECTO DE GANADERIA ESTABULADA\n\nPara más información
  visita http://www.agro20.com/events/seminario-sobre-ganaderia
DTSTART;TZID=Africa/Blantyre:20100424T000000
DTEND;TZID=Africa/Blantyre:20100424T235900
CATEGORIES:seminario
LOCATION:CUCUTA, NORTE DE SANTANDER
WEBSITE:
URL:
CONTACT:3144838265
ORGANIZER;CN="ALVARO FERNANDO MERINO RAMIRE<":http://www.agro20.com/pr
 ofile/ALVAROFERNANDOMERINORAMIRE
ATTACH;FMTTYPE="image/jpeg":http://storage.ning.com/topology/rest/1.0/
 file/get/2256839098?profile=original
ATTENDEE;ROLE=REQ-PARTICIPANT;PARTSTAT=ACCEPTED;RSVP=TRUE;CN="ALVARO F
 ERNANDO MERINO RAMIRE<":http://www.agro20.com/profile/ALVAROFERNANDOME
 RINORAMIRE
END:VEVENT
END:VCALENDAR
