BEGIN:VCALENDAR
PRODID:NingEventWidget-v1
VERSION:2.0
METHOD:PUBLISH
BEGIN:VTIMEZONE
TZID:Africa/Blantyre
X-LIC-LOCATION:Africa/Blantyre
BEGIN:STANDARD
TZOFFSETFROM:+0200
TZOFFSETTO:+0200
TZNAME:CAT
DTSTART:19700101T000000
END:STANDARD
END:VTIMEZONE
BEGIN:VEVENT
UID:2015296:Event:70271
DTSTAMP:20260421T022943Z
SUMMARY:SEMINARIO SOBRE GANADERIA ESTABULADA EN VALLEDUPAR, BARRANQUIL
 LA Y MEDELLIN
DESCRIPTION:\nSEMINARIO SOBRE GANADERIA ESTABULADA\n\nA Realizarse En 
 La Ciudad De Valledupar, Barranquilla y Medellin el próximo 22 y 29 d
 e mayo y 5 de junio de 2010 consecutivamente\n\nCronograma De Activida
 des.\n\n7:30 AM Entrega De Credenciales\n8:00 a.m. Situación Actual D
 e La Ganadería En Colombia\n9:00 a.m. Alimentación De Los Animales E
 n Estabulación\n10:00 a.m. Refrigerio\n10:30 a.m. Fertilización Rumi
 nal\n11:30 a.m. Instalaciones Pecuarias Para Estabulación\n12:30 PM S
 istema De Transporte Por Cable Vía\n1:00 p.m. Almuerzo\n1:30 p.m. Man
 ejo De Las Excretas\n2:30 p.m. Manejo Y Sanidad\n3:30 p.m. Modelo Para
  Un Montaje\n4:30 p.m. Sistema De Riego\n5:00 p.m. Costos Para El Mont
 aje De Un Proyecto\n5:30 p.m. Comparativo Entre Una Explotación Tradi
 cional Y\nCeba Estabulada\n6:00 p.m. Discusión Y Entrega De Memorias\
 n\nExpositor:\nDr. Álvaro Fernando Merino R.\nMedico Veterinario Zoot
 ecnista\nEspecialista En Nutrición Animal\n8 Años De Experiencia En 
 Montajes De Ganadería Estabulada\n15 Años De Experiencia En Montaje 
 De Haciendas Ganaderas\n\nDr. Cesar Martínez\nMedico Veterinario\n\nI
 ng. Pedro Páez\nIngeniero mecánico\n\n\nCOSTO DEL SEMINARIO:\n\n\nVa
 lledupar antes del 15 de mayo $ 200.000 entre el 15 y20 de mayo $ 250.
 000\nBarranquilla antes del 20 de mayo $ 200.000 entre el 20 y 27 de m
 ayo $ 250.000\nMedellín antes del 28 de mayo $ 200.000 entre el 28 de
  mayo y 3 de junio $250.000\n\nPara Separar El Cupo, Favor Consignar E
 n La Cuenta De Ahorros De Bancolombia # 20355186347 A Nombre De Álvar
 o Fernando Merino Ramírez Y Confirmar Asistencia Al Celular 314483826
 5 o scanear y enviar consignación al correo electrónico.\n\nGracias.
 \n\nRecuerden el cupo es limitado.\n/b>\n\nPara más información visi
 ta http://www.agro20.com/events/seminario-sobre-ganaderia-3
DTSTART;TZID=Africa/Blantyre:20100522T000000
DTEND;TZID=Africa/Blantyre:20100522T235900
CATEGORIES:seminario
LOCATION:VALLEDUPAR, BARRANQUILLA Y MEDELLIN
WEBSITE:
URL:
CONTACT:3144838265
ORGANIZER;CN="ALVARO FERNANDO MERINO RAMIRE<":http://www.agro20.com/pr
 ofile/ALVAROFERNANDOMERINORAMIRE
ATTACH;FMTTYPE="image/jpeg":http://storage.ning.com/topology/rest/1.0/
 file/get/2256842315?profile=original
ATTENDEE;ROLE=REQ-PARTICIPANT;PARTSTAT=ACCEPTED;RSVP=TRUE;CN="ALVARO F
 ERNANDO MERINO RAMIRE<":http://www.agro20.com/profile/ALVAROFERNANDOME
 RINORAMIRE
END:VEVENT
END:VCALENDAR
