BEGIN:VCALENDAR
PRODID:NingEventWidget-v1
VERSION:2.0
METHOD:PUBLISH
BEGIN:VTIMEZONE
TZID:Africa/Blantyre
X-LIC-LOCATION:Africa/Blantyre
BEGIN:STANDARD
TZOFFSETFROM:+0200
TZOFFSETTO:+0200
TZNAME:CAT
DTSTART:19700101T000000
END:STANDARD
END:VTIMEZONE
BEGIN:VEVENT
UID:2015296:Event:69993
DTSTAMP:20260421T022933Z
SUMMARY:SEMINARIO SOBRE GANADERIA ESTABULADA ENLA CIUDAD DE BOGOTA
DESCRIPTION:SEMYGAN______________ASESORIA_EN_PROYECTOS_DE_SEMILLAS_Y_G
 ANADOS________________GANADERIA_ESTABULADA_(2).doc\n\nPara más inform
 ación visita http://www.agro20.com/events/seminario-sobre-ganaderia-2
DTSTART;TZID=Africa/Blantyre:20100508T000000
DTEND;TZID=Africa/Blantyre:20100508T235900
CATEGORIES:seminario
LOCATION:HOTEL LOS HEROES, CALLE 74 CON 15
WEBSITE:
URL:
CONTACT:3144838265
ORGANIZER;CN="ALVARO FERNANDO MERINO RAMIRE<":http://www.agro20.com/pr
 ofile/ALVAROFERNANDOMERINORAMIRE
ATTACH;FMTTYPE="image/jpeg":http://storage.ning.com/topology/rest/1.0/
 file/get/2256839961?profile=original
ATTENDEE;ROLE=REQ-PARTICIPANT;PARTSTAT=ACCEPTED;RSVP=TRUE;CN="ALVARO F
 ERNANDO MERINO RAMIRE<":http://www.agro20.com/profile/ALVAROFERNANDOME
 RINORAMIRE
ATTENDEE;ROLE=REQ-PARTICIPANT;PARTSTAT=TENTATIVE;RSVP=TRUE;CN="Giovann
 y Montoya Ayala":http://www.agro20.com/profile/GiovannyMontoyaAyala
END:VEVENT
END:VCALENDAR
