BEGIN:VCALENDAR
PRODID:NingEventWidget-v1
VERSION:2.0
METHOD:PUBLISH
BEGIN:VTIMEZONE
TZID:Africa/Blantyre
X-LIC-LOCATION:Africa/Blantyre
BEGIN:STANDARD
TZOFFSETFROM:+0200
TZOFFSETTO:+0200
TZNAME:CAT
DTSTART:19700101T000000
END:STANDARD
END:VTIMEZONE
BEGIN:VEVENT
UID:2015296:Event:68847
DTSTAMP:20260421T022943Z
SUMMARY:SEMINARIO SOBRE GANADERIA ESTABULADA EN LA CIUDAD DE BOGOTA
DESCRIPTION:ESTE SEMINARIO ES PARA GANADEROS Y NO GANADEROS, PARA OBTE
 NER EL MEJOR RESULTADO DE SU FINCA Y APROVECHAR TODOS LOS ESPACIOS\n\n
 Para más información visita http://www.agro20.com/events/seminario-s
 obre-ganaderia-1
DTSTART;TZID=Africa/Blantyre:20100501T000000
DTEND;TZID=Africa/Blantyre:20100501T235900
CATEGORIES:seminario
LOCATION:BOGOTA, HOTEL HGL EN LA CALLE 74 CON 15
WEBSITE:
URL:
CONTACT:3144838265
ORGANIZER:ALVARO FERNANDO MERINO RAMIREZ
ATTACH;FMTTYPE="image/jpeg":http://storage.ning.com/topology/rest/1.0/
 file/get/2256839610?profile=original
ATTENDEE;ROLE=REQ-PARTICIPANT;PARTSTAT=ACCEPTED;RSVP=TRUE;CN="ALVARO F
 ERNANDO MERINO RAMIRE<":http://www.agro20.com/profile/ALVAROFERNANDOME
 RINORAMIRE
ATTENDEE;ROLE=REQ-PARTICIPANT;PARTSTAT=TENTATIVE;RSVP=TRUE;CN="CESAR O
 RLANDO MORALES":http://www.agro20.com/profile/CESARORLANDOMORALES
END:VEVENT
END:VCALENDAR
