BEGIN:VCALENDAR
PRODID:NingEventWidget-v1
VERSION:2.0
METHOD:PUBLISH
BEGIN:VTIMEZONE
TZID:Africa/Blantyre
X-LIC-LOCATION:Africa/Blantyre
BEGIN:STANDARD
TZOFFSETFROM:+0200
TZOFFSETTO:+0200
TZNAME:CAT
DTSTART:19700101T000000
END:STANDARD
END:VTIMEZONE
BEGIN:VEVENT
UID:2015296:Event:69107
DTSTAMP:20260421T022933Z
SUMMARY:Seminario sobre Acidez del Suelo y Uso de Enmiendas
DESCRIPTION:La Sociedad Colombiana de la Ciencia del Suelo, SCCS, real
 izarÃ¡ el Seminario Acidez del Suelo y Enmiendas, con el objetivo de a
 ctualizar a los ingenieros, tÃ©cnicos, productores e interesados en es
 tos temas.\nNos complace invitarlos a participar del Seminario, el cua
 l se realizara el viernes 14 de mayo de 2010 en la regiÃ³n de ApartadÃ
 ³. Las conferencias se dictaran en las instalaciones de Comfamiliar Ca
 macol (Parque Zungo) desde las 7:30am a 2:30pm.\nInvita SCCS - ComitÃ©
  Regional Antioquia\n\nPara mÃ¡s informaciÃ³n visita http://www.agro20
 .com/events/seminario-sobre-acidez-del
DTSTART;TZID=Africa/Blantyre:20100514T000000
DTEND;TZID=Africa/Blantyre:20100514T235900
CATEGORIES:seminario
LOCATION:ApartadÃ³ - Antioquia - Colombia
WEBSITE:http://www.sccsuelo.org
URL:http://www.sccsuelo.org
CONTACT:4309304 - 320 3475381
ORGANIZER:Sociedad Colombiana de la Ciencia del Suelo - ComitÃ© Region
 al Antioquia
ATTACH;FMTTYPE="image/jpeg":
ATTENDEE;ROLE=REQ-PARTICIPANT;PARTSTAT=ACCEPTED;RSVP=TRUE;CN="Francisc
 o E. Restrepo Higuita":http://www.agro20.com/profile/FranciscoERestrep
 oHiguita
ATTENDEE;ROLE=REQ-PARTICIPANT;PARTSTAT=TENTATIVE;RSVP=TRUE;CN="LeÃ³n G
 onzalo Ramos Arroyave":http://www.agro20.com/profile/LeonGonzaloRamosA
 rroyave
END:VEVENT
END:VCALENDAR
