BEGIN:VCALENDAR
PRODID:NingEventWidget-v1
VERSION:2.0
METHOD:PUBLISH
BEGIN:VTIMEZONE
TZID:Africa/Blantyre
X-LIC-LOCATION:Africa/Blantyre
BEGIN:STANDARD
TZOFFSETFROM:+0200
TZOFFSETTO:+0200
TZNAME:CAT
DTSTART:19700101T000000
END:STANDARD
END:VTIMEZONE
BEGIN:VEVENT
UID:2015296:Event:71047
DTSTAMP:20260421T022816Z
SUMMARY:Seminario Internacional Producción Más Limpia, hacia una Gan
 adería Sostenible
DESCRIPTION:Seminario internacional que convoca a especialistas en la 
 gestión del agua, energía y saneamiento de la unidad pecuaria. Se in
 cluirán conferencias sobre ganadería biodinámica y la comercializac
 ión de productos cárnicos y lácteos ecológicos en Colombia y el mu
 ndo. Organizan FEDEGAN y CAR.\n\nPara más información visita http://
 www.agro20.com/events/seminario-internacional-1
DTSTART;TZID=Africa/Blantyre:20100526T000000
DTEND;TZID=Africa/Blantyre:20100528T235900
CATEGORIES:seminario, internacional, presencial
LOCATION:Universidad de la Salle, Auditorio Sede Chapinero
WEBSITE:http://www.eventosynegocios.net
URL:http://www.eventosynegocios.net
CONTACT:6200721 - 6206207
ORGANIZER;CN="Richard Probst Bruce":http://www.agro20.com/profile/Rich
 ardProbstBruce
ATTACH;FMTTYPE="image/jpeg":http://storage.ning.com/topology/rest/1.0/
 file/get/2256840321?profile=original
ATTENDEE;ROLE=REQ-PARTICIPANT;PARTSTAT=ACCEPTED;RSVP=TRUE;CN="Richard 
 Probst Bruce":http://www.agro20.com/profile/RichardProbstBruce
ATTENDEE;ROLE=REQ-PARTICIPANT;PARTSTAT=TENTATIVE;RSVP=TRUE;CN="JUAN CA
 RLOS TORRES":http://www.agro20.com/profile/JUANCARLOSTORRES
END:VEVENT
END:VCALENDAR
