BEGIN:VCALENDAR
PRODID:NingEventWidget-v1
VERSION:2.0
METHOD:PUBLISH
BEGIN:VTIMEZONE
TZID:Africa/Blantyre
X-LIC-LOCATION:Africa/Blantyre
BEGIN:STANDARD
TZOFFSETFROM:+0200
TZOFFSETTO:+0200
TZNAME:CAT
DTSTART:19700101T000000
END:STANDARD
END:VTIMEZONE
BEGIN:VEVENT
UID:2015296:Event:69546
DTSTAMP:20260421T022932Z
SUMMARY:MORINGA OLEIFERA CULTIVO Y PROPIEDADES
DESCRIPTION:COLMORINGA, dictará para el comite de ganaderos de Prado 
 - Tolima una capacitación sobre el cultivo de la MORINGA OLEIFERA, el
  día 8 de mayo del 2010, los asistentes irán luego a la Hacienda MB,
  a visitar los cultivos.\n\nPara más información visita http://www.a
 gro20.com/events/moringa-oleifera-cultivo-y
DTSTART;TZID=Africa/Blantyre:20100508T000000
DTEND;TZID=Africa/Blantyre:20100508T235900
CATEGORIES:capacitacion
LOCATION:CASA DE LA CULTURA DE PRADO - TOLIMA
WEBSITE:http://www.colmoringa.com
URL:http://www.colmoringa.com
CONTACT:315 2080558
ORGANIZER;CN="David MIranda Santos":http://www.agro20.com/profile/Davi
 dMIrandaSantos
ATTACH;FMTTYPE="image/jpeg":
ATTENDEE;ROLE=REQ-PARTICIPANT;PARTSTAT=ACCEPTED;RSVP=TRUE;CN="David MI
 randa Santos":http://www.agro20.com/profile/DavidMIrandaSantos
ATTENDEE;ROLE=REQ-PARTICIPANT;PARTSTAT=TENTATIVE;RSVP=TRUE;CN="Luis Hu
 mberto Quintero c.":http://www.agro20.com/profile/LuisHumbertoQuintero
 c
END:VEVENT
END:VCALENDAR
