BEGIN:VCALENDAR
PRODID:NingEventWidget-v1
VERSION:2.0
METHOD:PUBLISH
BEGIN:VTIMEZONE
TZID:Africa/Blantyre
X-LIC-LOCATION:Africa/Blantyre
BEGIN:STANDARD
TZOFFSETFROM:+0200
TZOFFSETTO:+0200
TZNAME:CAT
DTSTART:19700101T000000
END:STANDARD
END:VTIMEZONE
BEGIN:VEVENT
UID:2015296:Event:56902
DTSTAMP:20260420T223715Z
SUMMARY:AGROEXPOSALLE 2009
DESCRIPTION:FERIA DE IDEAS E INNOVACIONES EMPRESARIALES AGROEXPOSALLE 
 2009\n\nPara más información visita http://www.agro20.com/events/agr
 oexposalle-2009
DTSTART;TZID=Africa/Blantyre:20091007T080000
DTEND;TZID=Africa/Blantyre:20091007T160000
CATEGORIES:feria, agroempresarial, académica
LOCATION:BOGOTA CARRRA 7 NO 172-85
WEBSITE:http://www.agroexposalle.blogspot.com
URL:http://www.agroexposalle.blogspot.com
CONTACT:
ORGANIZER;CN=JUAN:http://www.agro20.com/profile/juanromerancho
ATTACH;FMTTYPE="image/jpeg":http://storage.ning.com/topology/rest/1.0/
 file/get/2256838176?profile=original
ATTENDEE;ROLE=REQ-PARTICIPANT;PARTSTAT=ACCEPTED;RSVP=TRUE;CN=JUAN:http
 ://www.agro20.com/profile/juanromerancho
END:VEVENT
END:VCALENDAR
